BEGIN:VCALENDAR
VERSION:2.0
PRODID:-//North Shore EVP - ECPv6.15.12.2//NONSGML v1.0//EN
CALSCALE:GREGORIAN
METHOD:PUBLISH
X-WR-CALNAME:North Shore EVP
X-ORIGINAL-URL:https://nsevp.org
X-WR-CALDESC:Events for North Shore EVP
REFRESH-INTERVAL;VALUE=DURATION:PT1H
X-Robots-Tag:noindex
X-PUBLISHED-TTL:PT1H
BEGIN:VTIMEZONE
TZID:Pacific/Honolulu
BEGIN:STANDARD
TZOFFSETFROM:-1000
TZOFFSETTO:-1000
TZNAME:HST
DTSTART:20250101T000000
END:STANDARD
END:VTIMEZONE
BEGIN:VEVENT
DTSTART;VALUE=DATE:20260422
DTEND;VALUE=DATE:20260423
DTSTAMP:20260422T021401
CREATED:20260209T204239Z
LAST-MODIFIED:20260310T182734Z
UID:231620-1776816000-1776902399@nsevp.org
SUMMARY:Hawaiʻi GroupGAP Summer Cohort Informational Webinar (4/22/2026)
DESCRIPTION:Save the date for our Hawaiʻi \nGroupGAP Informational Webinar.  \nLearn how Hawai‘i farms and food hubs can benefit from USDA HarmonizedGAP food safety certification through USDA GroupGAP.  \nThe webinar will cover:  \n\nWhat USDA GroupGAP is and how it works;\nHawai‘i GroupGAP at a glance;\nFood safety in Hawai‘i: perceptions\, statistics\, and solutions;\nBenefits of certification for farms\, buyers\, and communities;\nWho should apply\, the selection process\, and next steps. \n\nQuestions? Contact Francesca Scola\, Food Safety Director at fscola@nsevp.org \nRegistration link: https://tinyurl.com/HIGroupGAP
URL:https://nsevp.org/event/hawai%ca%bbi-groupgap-summer-cohort-informational-webinar-4-22-2026/
LOCATION:Virtual Workshop\, HI\, United States
ATTACH;FMTTYPE=image/jpeg:https://nsevp.org/wp-content/uploads/2024/06/gallery-4.jpg
ORGANIZER;CN="North Shore EVP":MAILTO:fscola@nsevp.org
END:VEVENT
BEGIN:VEVENT
DTSTART;TZID=Pacific/Honolulu:20260515T080000
DTEND;TZID=Pacific/Honolulu:20260515T170000
DTSTAMP:20260422T021401
CREATED:20260209T204737Z
LAST-MODIFIED:20260210T215300Z
UID:231622-1778832000-1778864400@nsevp.org
SUMMARY:Application Deadline for Summer Cohort Consideration
DESCRIPTION:Join our next GroupGAP training cohort! Applications for the second Cohort of 2026 are due by Friday\, May 15th 2026.
URL:https://nsevp.org/event/application-deadline-for-summer-cohort-consideration/
LOCATION:HI
ATTACH;FMTTYPE=image/jpeg:https://nsevp.org/wp-content/uploads/2022/01/nsevp-header-bg.jpg
ORGANIZER;CN="North Shore EVP":MAILTO:fscola@nsevp.org
END:VEVENT
BEGIN:VEVENT
DTSTART;VALUE=DATE:20260519
DTEND;VALUE=DATE:20260521
DTSTAMP:20260422T021401
CREATED:20260310T175802Z
LAST-MODIFIED:20260310T175802Z
UID:231720-1779148800-1779321599@nsevp.org
SUMMARY:2nd Annual Food Safety Summit - Kahului\, Maui
DESCRIPTION:Join us May 19–20\, 2026 for the 2nd Annual Food Safety Summit\, hosted by CTAHR Farm Food Safety and North Shore Economic Vitality Partnership. \nThis free two-day event brings together farmers\, food safety experts\, service providers\, vendors\, and produce buyers to explore practical approaches to farm food safety and USDA Good Agricultural Practices (GAP) certification. \nFree event – registration required\nReserve your tickets at: https://tinyurl.com/MauiFoodSafety \nDay 1 – UH Maui College\nKeynote speakers\, breakout sessions\, and a buyer–grower exchange focused on farm food safety practices\, certification pathways\, and resources available to Hawaiʻi growers. \nDay 2 – Farm Tour\nVisit a working farm to see how food safety practices are implemented in real-world operations and hear directly from farmers about their experience with certification.
URL:https://nsevp.org/event/2nd-annual-food-safety-summit-kahului-maui/
LOCATION:UH Maui College\, 310 W Kaahumanu Ave\, Kahului\, HI\, 96732\, United States
ATTACH;FMTTYPE=image/jpeg:https://nsevp.org/wp-content/uploads/2026/03/Maui-FS-Summit-Save-The-Date.jpg
END:VEVENT
BEGIN:VEVENT
DTSTART;VALUE=DATE:20260526
DTEND;VALUE=DATE:20260527
DTSTAMP:20260422T021401
CREATED:20260209T205136Z
LAST-MODIFIED:20260210T215055Z
UID:231624-1779753600-1779839999@nsevp.org
SUMMARY:Acceptance / Deferral Letters Sent to Applicants
DESCRIPTION:Thank you for applying! Stay tuned—acceptance letters for our second Cohort of 2026 will be sent out by 5/26/26.
URL:https://nsevp.org/event/acceptance-deferral-letters-sent-to-applicants/
LOCATION:HI
ATTACH;FMTTYPE=image/jpeg:https://nsevp.org/wp-content/uploads/2021/01/agri-tourism.jpg
ORGANIZER;CN="North Shore EVP":MAILTO:fscola@nsevp.org
END:VEVENT
BEGIN:VEVENT
DTSTART;VALUE=DATE:20260616
DTEND;VALUE=DATE:20260617
DTSTAMP:20260422T021401
CREATED:20260209T205552Z
LAST-MODIFIED:20260210T214851Z
UID:231628-1781568000-1781654399@nsevp.org
SUMMARY:Cohort Start Date – Online Classes Begin
DESCRIPTION:Accepted operations begin online training classes with the Hawaiʻi GroupGAP Food Safety Team!
URL:https://nsevp.org/event/cohort-start-date-online-classes-begin/
LOCATION:HI
ATTACH;FMTTYPE=image/jpeg:https://nsevp.org/wp-content/uploads/2021/01/groupgap-background.jpg
ORGANIZER;CN="North Shore EVP":MAILTO:fscola@nsevp.org
END:VEVENT
END:VCALENDAR